BEGIN:VCALENDAR
VERSION:2.0
PRODID:-//atelier makajé - ECPv6.15.20//NONSGML v1.0//EN
CALSCALE:GREGORIAN
METHOD:PUBLISH
X-WR-CALNAME:atelier makajé
X-ORIGINAL-URL:https://atelier-makaje.de
X-WR-CALDESC:Veranstaltungen für atelier makajé
REFRESH-INTERVAL;VALUE=DURATION:PT1H
X-Robots-Tag:noindex
X-PUBLISHED-TTL:PT1H
BEGIN:VTIMEZONE
TZID:Europe/Berlin
BEGIN:DAYLIGHT
TZOFFSETFROM:+0100
TZOFFSETTO:+0200
TZNAME:CEST
DTSTART:20230326T010000
END:DAYLIGHT
BEGIN:STANDARD
TZOFFSETFROM:+0200
TZOFFSETTO:+0100
TZNAME:CET
DTSTART:20231029T010000
END:STANDARD
BEGIN:DAYLIGHT
TZOFFSETFROM:+0100
TZOFFSETTO:+0200
TZNAME:CEST
DTSTART:20240331T010000
END:DAYLIGHT
BEGIN:STANDARD
TZOFFSETFROM:+0200
TZOFFSETTO:+0100
TZNAME:CET
DTSTART:20241027T010000
END:STANDARD
BEGIN:DAYLIGHT
TZOFFSETFROM:+0100
TZOFFSETTO:+0200
TZNAME:CEST
DTSTART:20250330T010000
END:DAYLIGHT
BEGIN:STANDARD
TZOFFSETFROM:+0200
TZOFFSETTO:+0100
TZNAME:CET
DTSTART:20251026T010000
END:STANDARD
END:VTIMEZONE
BEGIN:VEVENT
DTSTART;TZID=Europe/Berlin:20240920T130000
DTEND;TZID=Europe/Berlin:20240920T163000
DTSTAMP:20260422T180011
CREATED:20240719T155150Z
LAST-MODIFIED:20240719T161154Z
UID:10000002-1726837200-1726849800@atelier-makaje.de
SUMMARY:Farbenrausch: Deine kreative Auszeit
DESCRIPTION:Dies ist ein privater Teambuilding-Workshop – zu diesem Termin kannst du dich leider nicht anmelden.  \n\nDu willst das auch? Das ist möglich!\nOb Teamevent\, Mädelsabend\, ein besonderer Anlass oder einfach eine kreative Auszeit zusammen mit deinen Lieblingsmenschen:\nMit dem Workshop „Farbenrausch: Deine kreative Auszeit“ entdeckt ihr in vertrauter Runde auf spielerische Art eure Kreativität (wieder) neu. \nIch komme gerne zu deinem Wunschtermin auch zu dir nach Hause (min. 3 Teilnehmende)! \nNimm gerne Kontakt mit mir auf:\nper E-Mail an **@************je.de oder telefonisch/per WhatsApp unter 0160-90863431
URL:https://atelier-makaje.de/event/farbenrausch-deine-kreative-auszeit-2
LOCATION:Kranenburg
CATEGORIES:Teambuilding
ATTACH;FMTTYPE=image/jpeg:https://atelier-makaje.de/wp-content/uploads/2024/07/das-telefonat_1920px.jpg
END:VEVENT
END:VCALENDAR